BEGIN:VCALENDAR
VERSION:2.0
PRODID:spatie/icalendar-generator
BEGIN:VTIMEZONE
TZID:UTC
BEGIN:STANDARD
DTSTART:20250725T125510
TZOFFSETFROM:+0000
TZOFFSETTO:+0000
END:STANDARD
END:VTIMEZONE
BEGIN:VEVENT
UID:69e773ae367b0
DTSTAMP:20260421T125510Z
SUMMARY:Luigi Toscano – Kanakenkinder
DTSTART:20260514T090000Z
DTEND:20260514T090000Z
END:VEVENT
END:VCALENDAR