BEGIN:VCALENDAR
VERSION:2.0
PRODID:spatie/icalendar-generator
BEGIN:VTIMEZONE
TZID:UTC
BEGIN:STANDARD
DTSTART:20250725T121915
TZOFFSETFROM:+0000
TZOFFSETTO:+0000
END:STANDARD
END:VTIMEZONE
BEGIN:VEVENT
UID:69e76b431ae4c
DTSTAMP:20260421T121915Z
SUMMARY:Luigi Toscano – Kanakenkinder
DTSTART:20260513T090000Z
DTEND:20260513T090000Z
END:VEVENT
END:VCALENDAR