BEGIN:VCALENDAR
VERSION:2.0
PRODID:spatie/icalendar-generator
BEGIN:VTIMEZONE
TZID:UTC
BEGIN:STANDARD
DTSTART:20250725T042320
TZOFFSETFROM:+0000
TZOFFSETTO:+0000
END:STANDARD
END:VTIMEZONE
BEGIN:VEVENT
UID:69e6fbb8c9ce6
DTSTAMP:20260421T042320Z
SUMMARY:Luigi Toscano – Kanakenkinder
DTSTART:20260510T090000Z
DTEND:20260510T090000Z
END:VEVENT
END:VCALENDAR