BEGIN:VCALENDAR
VERSION:2.0
PRODID:spatie/icalendar-generator
BEGIN:VTIMEZONE
TZID:UTC
BEGIN:STANDARD
DTSTART:20250725T095655
TZOFFSETFROM:+0000
TZOFFSETTO:+0000
END:STANDARD
END:VTIMEZONE
BEGIN:VEVENT
UID:69e749e7b8712
DTSTAMP:20260421T095655Z
SUMMARY:Luigi Toscano – Kanakenkinder
DTSTART:20260506T090000Z
DTEND:20260506T090000Z
END:VEVENT
END:VCALENDAR