BEGIN:VCALENDAR
VERSION:2.0
PRODID:spatie/icalendar-generator
BEGIN:VTIMEZONE
TZID:UTC
BEGIN:STANDARD
DTSTART:20250724T034801
TZOFFSETFROM:+0000
TZOFFSETTO:+0000
END:STANDARD
END:VTIMEZONE
BEGIN:VEVENT
UID:69e5a1f1b19e1
DTSTAMP:20260420T034801Z
SUMMARY:Luigi Toscano – Kanakenkinder
DTSTART:20260503T090000Z
DTEND:20260503T090000Z
END:VEVENT
END:VCALENDAR