BEGIN:VCALENDAR
VERSION:2.0
PRODID:spatie/icalendar-generator
BEGIN:VTIMEZONE
TZID:UTC
BEGIN:STANDARD
DTSTART:20250725T023756
TZOFFSETFROM:+0000
TZOFFSETTO:+0000
END:STANDARD
END:VTIMEZONE
BEGIN:VEVENT
UID:69e6e304b67a0
DTSTAMP:20260421T023756Z
SUMMARY:Dinosaurier - Die Geschichte des Überlebens
DTSTART:20260509T131500Z
DTEND:20260509T131500Z
END:VEVENT
END:VCALENDAR