BEGIN:VCALENDAR
VERSION:2.0
PRODID:spatie/icalendar-generator
BEGIN:VTIMEZONE
TZID:UTC
BEGIN:STANDARD
DTSTART:20250725T083221
TZOFFSETFROM:+0000
TZOFFSETTO:+0000
END:STANDARD
END:VTIMEZONE
BEGIN:VEVENT
UID:69e736151f07f
DTSTAMP:20260421T083221Z
SUMMARY:Dinosaurier - Die Geschichte des Überlebens
DTSTART:20260502T120000Z
DTEND:20260502T120000Z
END:VEVENT
END:VCALENDAR