BEGIN:VCALENDAR
VERSION:2.0
PRODID:spatie/icalendar-generator
BEGIN:VTIMEZONE
TZID:UTC
BEGIN:STANDARD
DTSTART:20250724T014311
TZOFFSETFROM:+0000
TZOFFSETTO:+0000
END:STANDARD
END:VTIMEZONE
BEGIN:VEVENT
UID:69e584afdaa57
DTSTAMP:20260420T014311Z
SUMMARY:Die Olchis - Das große Weltraumabenteuer
DTSTART:20260502T131500Z
DTEND:20260502T131500Z
END:VEVENT
END:VCALENDAR