BEGIN:VCALENDAR
VERSION:2.0
PRODID:spatie/icalendar-generator
BEGIN:VTIMEZONE
TZID:UTC
BEGIN:STANDARD
DTSTART:20250728T205202
TZOFFSETFROM:+0000
TZOFFSETTO:+0000
END:STANDARD
END:VTIMEZONE
BEGIN:VEVENT
UID:69ebd7f22491d
DTSTAMP:20260424T205202Z
SUMMARY:Kuratorenführung durch \"Verstrickt. Kolonialismus und Mannheim\"
DTSTART:20260621T120000Z
DTEND:20260621T130000Z
END:VEVENT
END:VCALENDAR