BEGIN:VCALENDAR
VERSION:2.0
PRODID:spatie/icalendar-generator
BEGIN:VTIMEZONE
TZID:UTC
BEGIN:STANDARD
DTSTART:20250727T182733
TZOFFSETFROM:+0000
TZOFFSETTO:+0000
END:STANDARD
END:VTIMEZONE
BEGIN:VEVENT
UID:69ea64950a745
DTSTAMP:20260423T182733Z
SUMMARY:Kuratorenführung durch \"Verstrickt. Kolonialismus und Mannheim\"
DTSTART:20260607T120000Z
DTEND:20260607T130000Z
END:VEVENT
END:VCALENDAR