BEGIN:VCALENDAR
VERSION:2.0
PRODID:spatie/icalendar-generator
BEGIN:VTIMEZONE
TZID:UTC
BEGIN:STANDARD
DTSTART:20250727T063055
TZOFFSETFROM:+0000
TZOFFSETTO:+0000
END:STANDARD
END:VTIMEZONE
BEGIN:VEVENT
UID:69e9bc9fcf80e
DTSTAMP:20260423T063055Z
SUMMARY:Kuratorenführung durch \"Verstrickt. Kolonialismus und Mannheim\"
DTSTART:20260531T120000Z
DTEND:20260531T130000Z
END:VEVENT
END:VCALENDAR