BEGIN:VCALENDAR
VERSION:2.0
PRODID:spatie/icalendar-generator
BEGIN:VTIMEZONE
TZID:UTC
BEGIN:STANDARD
DTSTART:20250729T040859
TZOFFSETFROM:+0000
TZOFFSETTO:+0000
END:STANDARD
END:VTIMEZONE
BEGIN:VEVENT
UID:69ec3e5b756d6
DTSTAMP:20260425T040859Z
SUMMARY:Kuratorenführung durch \"Verstrickt. Kolonialismus und Mannheim\"
DTSTART:20260426T120000Z
DTEND:20260426T130000Z
END:VEVENT
END:VCALENDAR