BEGIN:VCALENDAR
VERSION:2.0
PRODID:spatie/icalendar-generator
BEGIN:VTIMEZONE
TZID:UTC
BEGIN:STANDARD
DTSTART:20250726T104053
TZOFFSETFROM:+0000
TZOFFSETTO:+0000
END:STANDARD
END:VTIMEZONE
BEGIN:VEVENT
UID:69e8a5b516553
DTSTAMP:20260422T104053Z
SUMMARY:Gaston Stabiszewski - Soft Ultra
DTSTART:20270416T180000Z
DTEND:20270416T180000Z
END:VEVENT
END:VCALENDAR