BEGIN:VCALENDAR
VERSION:2.0
PRODID:spatie/icalendar-generator
BEGIN:VTIMEZONE
TZID:UTC
BEGIN:STANDARD
DTSTART:20250727T153016
TZOFFSETFROM:+0000
TZOFFSETTO:+0000
END:STANDARD
END:VTIMEZONE
BEGIN:VEVENT
UID:69ea3b082b5b7
DTSTAMP:20260423T153016Z
SUMMARY:Landschaftsmusik - Mannheimer Sommer des NTM
DTSTART:20260628T110000Z
DTEND:20260628T110000Z
END:VEVENT
END:VCALENDAR