BEGIN:VCALENDAR
VERSION:2.0
PRODID:spatie/icalendar-generator
BEGIN:VTIMEZONE
TZID:UTC
BEGIN:STANDARD
DTSTART:20250727T075834
TZOFFSETFROM:+0000
TZOFFSETTO:+0000
END:STANDARD
END:VTIMEZONE
BEGIN:VEVENT
UID:69e9d12a7f9fa
DTSTAMP:20260423T075834Z
SUMMARY:Vom kleinen Maulwurf\, der wissen wollte\, wer ihm auf den Kopf gem
 acht hat. (4+)
DTSTART:20260531T130000Z
DTEND:20260531T130000Z
END:VEVENT
END:VCALENDAR