BEGIN:VCALENDAR
VERSION:2.0
PRODID:spatie/icalendar-generator
BEGIN:VTIMEZONE
TZID:UTC
BEGIN:STANDARD
DTSTART:20250725T095648
TZOFFSETFROM:+0000
TZOFFSETTO:+0000
END:STANDARD
END:VTIMEZONE
BEGIN:VEVENT
UID:69e749e044cc4
DTSTAMP:20260421T095648Z
SUMMARY:Freche Fläche (2+)
DTSTART:20260518T080000Z
DTEND:20260518T080000Z
END:VEVENT
END:VCALENDAR