BEGIN:VCALENDAR
VERSION:2.0
PRODID:spatie/icalendar-generator
BEGIN:VTIMEZONE
TZID:UTC
BEGIN:STANDARD
DTSTART:20250725T104633
TZOFFSETFROM:+0000
TZOFFSETTO:+0000
END:STANDARD
END:VTIMEZONE
BEGIN:VEVENT
UID:69e75589950cf
DTSTAMP:20260421T104633Z
SUMMARY:Freche Fläche (2+)
DTSTART:20260516T140000Z
DTEND:20260516T140000Z
END:VEVENT
END:VCALENDAR