BEGIN:VCALENDAR
VERSION:2.0
PRODID:spatie/icalendar-generator
BEGIN:VTIMEZONE
TZID:UTC
BEGIN:STANDARD
DTSTART:20250723T141930
TZOFFSETFROM:+0000
TZOFFSETTO:+0000
END:STANDARD
END:VTIMEZONE
BEGIN:VEVENT
UID:69e4e47210bbb
DTSTAMP:20260419T141930Z
SUMMARY:Mondeis (4+)
DTSTART:20260527T080000Z
DTEND:20260527T080000Z
END:VEVENT
END:VCALENDAR