BEGIN:VCALENDAR
VERSION:2.0
PRODID:spatie/icalendar-generator
BEGIN:VTIMEZONE
TZID:UTC
BEGIN:STANDARD
DTSTART:20250725T104221
TZOFFSETFROM:+0000
TZOFFSETTO:+0000
END:STANDARD
END:VTIMEZONE
BEGIN:VEVENT
UID:69e7548d523e0
DTSTAMP:20260421T104221Z
SUMMARY:Mondeis (4+)
DTSTART:20260524T090000Z
DTEND:20260524T090000Z
END:VEVENT
END:VCALENDAR