BEGIN:VCALENDAR
VERSION:2.0
PRODID:spatie/icalendar-generator
BEGIN:VTIMEZONE
TZID:UTC
BEGIN:STANDARD
DTSTART:20250724T020600
TZOFFSETFROM:+0000
TZOFFSETTO:+0000
END:STANDARD
END:VTIMEZONE
BEGIN:VEVENT
UID:69e58a0854113
DTSTAMP:20260420T020600Z
SUMMARY:Es sagt\, es liebt uns
DTSTART:20260502T180000Z
DTEND:20260502T180000Z
END:VEVENT
END:VCALENDAR