BEGIN:VCALENDAR
VERSION:2.0
PRODID:spatie/icalendar-generator
BEGIN:VTIMEZONE
TZID:UTC
BEGIN:STANDARD
DTSTART:20250723T125828
TZOFFSETFROM:+0000
TZOFFSETTO:+0000
END:STANDARD
END:VTIMEZONE
BEGIN:VEVENT
UID:69e4d174917de
DTSTAMP:20260419T125828Z
SUMMARY:Die Freiheit einer Frau: Monique bricht aus
DTSTART:20260508T173000Z
DTEND:20260508T173000Z
END:VEVENT
END:VCALENDAR