BEGIN:VCALENDAR
VERSION:2.0
PRODID:spatie/icalendar-generator
BEGIN:VTIMEZONE
TZID:UTC
BEGIN:STANDARD
DTSTART:20250730T043754
TZOFFSETFROM:+0000
TZOFFSETTO:+0000
END:STANDARD
END:VTIMEZONE
BEGIN:VEVENT
UID:69ed96a2dcd61
DTSTAMP:20260426T043754Z
SUMMARY:Die Dreigroschenoper
DTSTART:20260502T170000Z
DTEND:20260502T170000Z
END:VEVENT
END:VCALENDAR