BEGIN:VCALENDAR
VERSION:2.0
PRODID:spatie/icalendar-generator
BEGIN:VTIMEZONE
TZID:UTC
BEGIN:STANDARD
DTSTART:20250724T040609
TZOFFSETFROM:+0000
TZOFFSETTO:+0000
END:STANDARD
END:VTIMEZONE
BEGIN:VEVENT
UID:69e5a6317b376
DTSTAMP:20260420T040609Z
SUMMARY:Schaum ich an (2+)
DTSTART:20260503T090000Z
DTEND:20260503T090000Z
END:VEVENT
END:VCALENDAR