BEGIN:VCALENDAR
VERSION:2.0
PRODID:spatie/icalendar-generator
BEGIN:VTIMEZONE
TZID:UTC
BEGIN:STANDARD
DTSTART:20250725T083250
TZOFFSETFROM:+0000
TZOFFSETTO:+0000
END:STANDARD
END:VTIMEZONE
BEGIN:VEVENT
UID:69e73632bb88c
DTSTAMP:20260421T083250Z
SUMMARY:Fantastische Drachenwesen im Ferienlager – und wie sie sich kombi
 nieren lassen (10+)
DTSTART:20260505T090000Z
DTEND:20260505T090000Z
END:VEVENT
END:VCALENDAR