BEGIN:VCALENDAR
VERSION:2.0
PRODID:spatie/icalendar-generator
BEGIN:VTIMEZONE
TZID:UTC
BEGIN:STANDARD
DTSTART:20250727T104839
TZOFFSETFROM:+0000
TZOFFSETTO:+0000
END:STANDARD
END:VTIMEZONE
BEGIN:VEVENT
UID:69e9f90795f98
DTSTAMP:20260423T104839Z
SUMMARY:Ein Mensch. Eine künstliche Intelligenz. Ein Zwiegespräch.
DTSTART:20260508T180000Z
DTEND:20260508T180000Z
END:VEVENT
END:VCALENDAR