BEGIN:VCALENDAR
VERSION:2.0
PRODID:spatie/icalendar-generator
BEGIN:VTIMEZONE
TZID:UTC
BEGIN:STANDARD
DTSTART:20250725T095656
TZOFFSETFROM:+0000
TZOFFSETTO:+0000
END:STANDARD
END:VTIMEZONE
BEGIN:VEVENT
UID:69e749e859523
DTSTAMP:20260421T095656Z
SUMMARY:My funny Valentine (10+)
DTSTART:20260520T090000Z
DTEND:20260520T090000Z
END:VEVENT
END:VCALENDAR