BEGIN:VCALENDAR
VERSION:2.0
PRODID:spatie/icalendar-generator
BEGIN:VTIMEZONE
TZID:UTC
BEGIN:STANDARD
DTSTART:20250724T233719
TZOFFSETFROM:+0000
TZOFFSETTO:+0000
END:STANDARD
END:VTIMEZONE
BEGIN:VEVENT
UID:69e6b8af03d36
DTSTAMP:20260420T233719Z
SUMMARY:Konzert der Studienvorbereitenden Ausbildungsklasse
DTSTART:20260512T163000Z
DTEND:20260512T180000Z
END:VEVENT
END:VCALENDAR