BEGIN:VCALENDAR
VERSION:2.0
PRODID:spatie/icalendar-generator
BEGIN:VTIMEZONE
TZID:UTC
BEGIN:STANDARD
DTSTART:20250724T233743
TZOFFSETFROM:+0000
TZOFFSETTO:+0000
END:STANDARD
END:VTIMEZONE
BEGIN:VEVENT
UID:69e6b8c721371
DTSTAMP:20260420T233743Z
SUMMARY:Vorspiel der Celloklasse Noemi Puente Belda
DTSTART:20260511T160000Z
DTEND:20260511T173000Z
END:VEVENT
END:VCALENDAR