BEGIN:VCALENDAR
VERSION:2.0
PRODID:spatie/icalendar-generator
BEGIN:VTIMEZONE
TZID:UTC
BEGIN:STANDARD
DTSTART:20250724T213910
TZOFFSETFROM:+0000
TZOFFSETTO:+0000
END:STANDARD
END:VTIMEZONE
BEGIN:VEVENT
UID:69e69cfe6a589
DTSTAMP:20260420T213910Z
SUMMARY:Kammerchor in concert - Geistliche Chormusik mit Orgel
DTSTART:20260509T160000Z
DTEND:20260509T170000Z
END:VEVENT
END:VCALENDAR