BEGIN:VCALENDAR
VERSION:2.0
PRODID:spatie/icalendar-generator
BEGIN:VTIMEZONE
TZID:UTC
BEGIN:STANDARD
DTSTART:20250724T214452
TZOFFSETFROM:+0000
TZOFFSETTO:+0000
END:STANDARD
END:VTIMEZONE
BEGIN:VEVENT
UID:69e69e54c0231
DTSTAMP:20260420T214452Z
SUMMARY:Akkordeon grenzenlos! - Konzert der Fachgruppe Akkordeon
DTSTART:20260509T130000Z
DTEND:20260509T143000Z
END:VEVENT
END:VCALENDAR