BEGIN:VCALENDAR
VERSION:2.0
PRODID:spatie/icalendar-generator
BEGIN:VTIMEZONE
TZID:UTC
BEGIN:STANDARD
DTSTART:20250724T121837
TZOFFSETFROM:+0000
TZOFFSETTO:+0000
END:STANDARD
END:VTIMEZONE
BEGIN:VEVENT
UID:69e6199d18054
DTSTAMP:20260420T121837Z
SUMMARY:\"Les petites histoires du samedi\"
DTSTART:20260711T090000Z
DTEND:20260711T100000Z
END:VEVENT
END:VCALENDAR