BEGIN:VCALENDAR
VERSION:2.0
PRODID:spatie/icalendar-generator
BEGIN:VTIMEZONE
TZID:UTC
BEGIN:STANDARD
DTSTART:20250725T114156
TZOFFSETFROM:+0000
TZOFFSETTO:+0000
END:STANDARD
END:VTIMEZONE
BEGIN:VEVENT
UID:69e762847dfa8
DTSTAMP:20260421T114156Z
SUMMARY:\"Les petites histoires du samedi\"
DTSTART:20260620T090000Z
DTEND:20260620T100000Z
END:VEVENT
END:VCALENDAR