BEGIN:VCALENDAR
VERSION:2.0
PRODID:spatie/icalendar-generator
BEGIN:VTIMEZONE
TZID:UTC
BEGIN:STANDARD
DTSTART:20250726T150601
TZOFFSETFROM:+0000
TZOFFSETTO:+0000
END:STANDARD
END:VTIMEZONE
BEGIN:VEVENT
UID:69e8e3d9e5c32
DTSTAMP:20260422T150601Z
SUMMARY:Blaze Bayley - European Tour 2026
DTSTART:20260523T180000Z
DTEND:20260523T180000Z
END:VEVENT
END:VCALENDAR