BEGIN:VCALENDAR
VERSION:2.0
PRODID:spatie/icalendar-generator
BEGIN:VTIMEZONE
TZID:UTC
BEGIN:STANDARD
DTSTART:20250726T114237
TZOFFSETFROM:+0000
TZOFFSETTO:+0000
END:STANDARD
END:VTIMEZONE
BEGIN:VEVENT
UID:69e8b42d1f594
DTSTAMP:20260422T114237Z
SUMMARY:Blaze Bayley - European Tour 2026
DTSTART:20260522T180000Z
DTEND:20260522T180000Z
END:VEVENT
END:VCALENDAR