BEGIN:VCALENDAR
VERSION:2.0
PRODID:spatie/icalendar-generator
BEGIN:VTIMEZONE
TZID:UTC
BEGIN:STANDARD
DTSTART:20250724T113843
TZOFFSETFROM:+0000
TZOFFSETTO:+0000
END:STANDARD
END:VTIMEZONE
BEGIN:VEVENT
UID:69e610438895b
DTSTAMP:20260420T113843Z
SUMMARY:Sind Antisemitisten anwesend? Mit Humor gegen Judenhass
DTSTART:20260519T173000Z
DTEND:20260519T173000Z
END:VEVENT
END:VCALENDAR