BEGIN:VCALENDAR
VERSION:2.0
PRODID:spatie/icalendar-generator
BEGIN:VTIMEZONE
TZID:UTC
BEGIN:STANDARD
DTSTART:20250729T001817
TZOFFSETFROM:+0000
TZOFFSETTO:+0000
END:STANDARD
END:VTIMEZONE
BEGIN:VEVENT
UID:69ec084940967
DTSTAMP:20260425T001817Z
SUMMARY:Miteuchmittwoch
DTSTART:20260624T130000Z
DTEND:20260624T180000Z
END:VEVENT
END:VCALENDAR