BEGIN:VCALENDAR
VERSION:2.0
PRODID:spatie/icalendar-generator
BEGIN:VTIMEZONE
TZID:UTC
BEGIN:STANDARD
DTSTART:20250724T145544
TZOFFSETFROM:+0000
TZOFFSETTO:+0000
END:STANDARD
END:VTIMEZONE
BEGIN:VEVENT
UID:69e63e7043793
DTSTAMP:20260420T145544Z
SUMMARY:Als wir lasen
DTSTART:20260624T160000Z
DTEND:20260624T173000Z
END:VEVENT
END:VCALENDAR