BEGIN:VCALENDAR
VERSION:2.0
PRODID:spatie/icalendar-generator
BEGIN:VTIMEZONE
TZID:UTC
BEGIN:STANDARD
DTSTART:20250724T085726
TZOFFSETFROM:+0000
TZOFFSETTO:+0000
END:STANDARD
END:VTIMEZONE
BEGIN:VEVENT
UID:69e5ea76f0e77
DTSTAMP:20260420T085726Z
SUMMARY:Als wir lasen
DTSTART:20260610T160000Z
DTEND:20260610T173000Z
END:VEVENT
END:VCALENDAR