BEGIN:VCALENDAR
VERSION:2.0
PRODID:spatie/icalendar-generator
BEGIN:VTIMEZONE
TZID:UTC
BEGIN:STANDARD
DTSTART:20250725T082207
TZOFFSETFROM:+0000
TZOFFSETTO:+0000
END:STANDARD
END:VTIMEZONE
BEGIN:VEVENT
UID:69e733af4002f
DTSTAMP:20260421T082207Z
SUMMARY:William Wahl - einmal das beste von allem
DTSTART:20280122T190000Z
DTEND:20280122T190000Z
END:VEVENT
END:VCALENDAR