BEGIN:VCALENDAR
VERSION:2.0
PRODID:spatie/icalendar-generator
BEGIN:VTIMEZONE
TZID:UTC
BEGIN:STANDARD
DTSTART:20250727T034123
TZOFFSETFROM:+0000
TZOFFSETTO:+0000
END:STANDARD
END:VTIMEZONE
BEGIN:VEVENT
UID:69e994e354cf7
DTSTAMP:20260423T034123Z
SUMMARY:Benni Stark - Schon lustig\, wenn's witzig ist!
DTSTART:20261023T180000Z
DTEND:20261023T180000Z
END:VEVENT
END:VCALENDAR