BEGIN:VCALENDAR
VERSION:2.0
PRODID:spatie/icalendar-generator
BEGIN:VTIMEZONE
TZID:UTC
BEGIN:STANDARD
DTSTART:20250727T050243
TZOFFSETFROM:+0000
TZOFFSETTO:+0000
END:STANDARD
END:VTIMEZONE
BEGIN:VEVENT
UID:69e9a7f35ab7a
DTSTAMP:20260423T050243Z
SUMMARY:Benni Stark - Schon lustig\, wenn's witzig ist!
DTSTART:20261022T180000Z
DTEND:20261022T180000Z
END:VEVENT
END:VCALENDAR