BEGIN:VCALENDAR
VERSION:2.0
PRODID:spatie/icalendar-generator
BEGIN:VTIMEZONE
TZID:UTC
BEGIN:STANDARD
DTSTART:20250725T083328
TZOFFSETFROM:+0000
TZOFFSETTO:+0000
END:STANDARD
END:VTIMEZONE
BEGIN:VEVENT
UID:69e736584fd9f
DTSTAMP:20260421T083328Z
SUMMARY:Daphne de Luxe - Bei aller Liebe
DTSTART:20271112T190000Z
DTEND:20271112T190000Z
END:VEVENT
END:VCALENDAR