BEGIN:VCALENDAR
VERSION:2.0
PRODID:spatie/icalendar-generator
BEGIN:VTIMEZONE
TZID:UTC
BEGIN:STANDARD
DTSTART:20250725T082715
TZOFFSETFROM:+0000
TZOFFSETTO:+0000
END:STANDARD
END:VTIMEZONE
BEGIN:VEVENT
UID:69e734e39882d
DTSTAMP:20260421T082715Z
SUMMARY:Daphne de Luxe - Bei aller Liebe
DTSTART:20271111T190000Z
DTEND:20271111T190000Z
END:VEVENT
END:VCALENDAR