BEGIN:VCALENDAR
VERSION:2.0
PRODID:spatie/icalendar-generator
BEGIN:VTIMEZONE
TZID:UTC
BEGIN:STANDARD
DTSTART:20250726T042157
TZOFFSETFROM:+0000
TZOFFSETTO:+0000
END:STANDARD
END:VTIMEZONE
BEGIN:VEVENT
UID:69e84ce5a5305
DTSTAMP:20260422T042157Z
SUMMARY:Ausstellung am IDS: Zeichen setzen: STADT.WAND.KUNST. Kunst und Spr
 ache im öffentlichen Raum
DTSTART:20260526T080000Z
DTEND:20260526T130000Z
END:VEVENT
END:VCALENDAR