BEGIN:VCALENDAR
VERSION:2.0
PRODID:spatie/icalendar-generator
BEGIN:VTIMEZONE
TZID:UTC
BEGIN:STANDARD
DTSTART:20250725T193913
TZOFFSETFROM:+0000
TZOFFSETTO:+0000
END:STANDARD
END:VTIMEZONE
BEGIN:VEVENT
UID:69e7d26176332
DTSTAMP:20260421T193913Z
SUMMARY:Ausstellung am IDS: Zeichen setzen: STADT.WAND.KUNST. Kunst und Spr
 ache im öffentlichen Raum
DTSTART:20260518T080000Z
DTEND:20260518T130000Z
END:VEVENT
END:VCALENDAR