BEGIN:VCALENDAR
VERSION:2.0
PRODID:spatie/icalendar-generator
BEGIN:VTIMEZONE
TZID:UTC
BEGIN:STANDARD
DTSTART:20250725T075409
TZOFFSETFROM:+0000
TZOFFSETTO:+0000
END:STANDARD
END:VTIMEZONE
BEGIN:VEVENT
UID:69e72d214b8ce
DTSTAMP:20260421T075409Z
SUMMARY:Niklas Siepen - HIGH-VIJF
DTSTART:20260511T180000Z
DTEND:20260511T180000Z
END:VEVENT
END:VCALENDAR