BEGIN:VCALENDAR
VERSION:2.0
PRODID:spatie/icalendar-generator
BEGIN:VTIMEZONE
TZID:UTC
BEGIN:STANDARD
DTSTART:20250725T095648
TZOFFSETFROM:+0000
TZOFFSETTO:+0000
END:STANDARD
END:VTIMEZONE
BEGIN:VEVENT
UID:69e749e0d6206
DTSTAMP:20260421T095648Z
SUMMARY:6. Deutscher Sachbuch-Slam
DTSTART:20260603T170000Z
DTEND:20260603T170000Z
END:VEVENT
END:VCALENDAR