BEGIN:VCALENDAR
VERSION:2.0
PRODID:spatie/icalendar-generator
BEGIN:VTIMEZONE
TZID:UTC
BEGIN:STANDARD
DTSTART:20250723T183432
TZOFFSETFROM:+0000
TZOFFSETTO:+0000
END:STANDARD
END:VTIMEZONE
BEGIN:VEVENT
UID:69e52038c84e2
DTSTAMP:20260419T183432Z
SUMMARY:WISSENsdurst: Der Algorithmus als Richter*in: KI und die Zukunft de
 s Entscheidens
DTSTART:20260429T160000Z
DTEND:20260429T170000Z
END:VEVENT
END:VCALENDAR