BEGIN:VCALENDAR
VERSION:2.0
PRODID:spatie/icalendar-generator
BEGIN:VTIMEZONE
TZID:UTC
BEGIN:STANDARD
DTSTART:20250724T014738
TZOFFSETFROM:+0000
TZOFFSETTO:+0000
END:STANDARD
END:VTIMEZONE
BEGIN:VEVENT
UID:69e585baed142
DTSTAMP:20260420T014738Z
SUMMARY:Offene Hebammensprechstunde auf der Rheinau
DTSTART:20260506T070000Z
DTEND:20260506T100000Z
END:VEVENT
END:VCALENDAR