BEGIN:VCALENDAR
VERSION:2.0
PRODID:spatie/icalendar-generator
BEGIN:VTIMEZONE
TZID:UTC
BEGIN:STANDARD
DTSTART:20250723T221713
TZOFFSETFROM:+0000
TZOFFSETTO:+0000
END:STANDARD
END:VTIMEZONE
BEGIN:VEVENT
UID:69e554694c7a1
DTSTAMP:20260419T221713Z
SUMMARY:Young Café Colibri - Deutsch sprechen für alle von 16 bis 25
DTSTART:20260430T150000Z
DTEND:20260430T150000Z
END:VEVENT
END:VCALENDAR